BEGIN:VCALENDAR
VERSION:2.0
PRODID:-//Deskové hry Fénix - ECPv4.9.9//NONSGML v1.0//EN
CALSCALE:GREGORIAN
METHOD:PUBLISH
X-WR-CALNAME:Deskové hry Fénix
X-ORIGINAL-URL:https://deskovehryfenix.cz
X-WR-CALDESC:Events for Deskové hry Fénix
BEGIN:VTIMEZONE
TZID:Europe/Prague
BEGIN:DAYLIGHT
TZOFFSETFROM:+0100
TZOFFSETTO:+0200
TZNAME:CEST
DTSTART:20260329T010000
END:DAYLIGHT
BEGIN:STANDARD
TZOFFSETFROM:+0200
TZOFFSETTO:+0100
TZNAME:CET
DTSTART:20261025T010000
END:STANDARD
END:VTIMEZONE
BEGIN:VEVENT
DTSTART;TZID=Europe/Prague:20260424T160000
DTEND;TZID=Europe/Prague:20260426T180000
DTSTAMP:20260419T162508
CREATED:20260223T122246Z
LAST-MODIFIED:20260225T214317Z
UID:8881-1777046400-1777226400@deskovehryfenix.cz
SUMMARY:Jaro II - víkendové deskohraní v klubovně Husova 146\, Vysoké Mýto
DESCRIPTION:  \n \n
URL:https://deskovehryfenix.cz/akce/jaro-ii-vikendove-deskohrani-v-klubovne-husova-146-vysoke-myto_032026/
LOCATION:Husova 146\, Vysoké Mýto\, Husova 146\, Vysoké Mýto\, Pardubický kraj\, 56601\, Česká republika
CATEGORIES:Kalendář akcí
ATTACH;FMTTYPE=image/jpeg:https://deskovehryfenix.cz/wp-content/uploads/2026/01/Vikend_2026_03.jpg
ORGANIZER;CN="Klub%20deskov%C3%BDch%20her%20F%C3%A9nix":MAILTO:fenix@deskovehryfenix.cz
END:VEVENT
END:VCALENDAR